BEGIN:VCALENDAR
VERSION:2.0
PRODID:-//ChamberMaster//Event Calendar 2.0//EN
METHOD:PUBLISH
X-PUBLISHED-TTL:P1H
REFRESH-INTERVAL:P1H
CALSCALE:GREGORIAN
BEGIN:VTIMEZONE
TZID:America/New_York
BEGIN:DAYLIGHT
RRULE:FREQ=YEARLY;BYMONTH=3;BYDAY=2SU
DTSTART:20070101T000000
TZOFFSETFROM:-0500
TZOFFSETTO:-0400
TZNAME:Eastern Daylight Time
END:DAYLIGHT
BEGIN:STANDARD
RRULE:FREQ=YEARLY;BYMONTH=11;BYDAY=1SU
DTSTART:20070101T000000
TZOFFSETFROM:-0400
TZOFFSETTO:-0500
TZNAME:Eastern Standard Time
END:STANDARD
END:VTIMEZONE
BEGIN:VEVENT
DTSTART;TZID=America/New_York:20260428T110000
DTEND;TZID=America/New_York:20260428T120000
X-MICROSOFT-CDO-ALLDAYEVENT:FALSE
SUMMARY:Tribal Lead Reduction Webinar Series
DESCRIPTION:The Tribal Lead Reduction Webinar Series is a two-part virtual training and technical assistance initiative designed to support Tribal Nations in addressing and eliminating the risks of lead exposure in Tribal children and eliminating lead in drinking water.The series aligns with EPA's 3Ts framework (Training\, Testing\, and Taking Action) and provides a structured pathway from awareness to implementation through webinars and follow-up working office hours.WebinarsLead Exposure Risks & Community Response\nTuesday\, April 28 at 10:00 am   11:00 am Central/11:00 am   12:00 pm Eastern\nFocus on understanding risks of lead exposure in children and drinking water\, community engagement\, and communicating results.From Results to Action: Lead Remediation Planning\nThursday\, April 30 at 10:00 am   11:00 am Central/11:00 am   12:00 pm Eastern\nFocus on interpreting sampling results and developing actionable remediation plans.Office HoursStructured as working sessions (not passive Q&A)\, offering two tracks:\nTrack A   Community Engagement & Program Development\nTrack B   Remediation Planning & Implementation SupportMonday\, May 4 at 10:00 am   11:00 am Central/11:00 am   12:00 pm EasternMonday\, May 4 at 1:00 pm   2:00 pm Central/2:00 pm   3:00 pm EasternTuesday\, May 5 at 10:00 am   11:00 am Central/11:00 am   12:00 pm EasternTuesday\, May 5 at 1:00 pm   2:00 pm Central/2:00 pm   3:00 pm EasternWho should attend: Tribal environmental health staff\; Tribal water\, utility\, and maintenance staff\; Tribal public health professionals\; Tribal natural resource staff\; Tribal education staff\; Tribal program managers and leadershipLearning objectives:Increase awareness of lead exposure risks in childrenStrengthen Tribal staff capacity to interpret lead sampling resultsSupport development of community outreach and education strategiesProvide direct technical assistance for remediation planning and implementationAdvance Tribal-led lead reduction efforts aligned with EPA's 3Ts frameworkRegistration is open!Questions? Please contact Jakira Saunders\, OERM Lead Program Manager\, at jsaunders@usetinc.org or 804-501-8112\, or Ben Peyton\, OERM Sr. Technical Assistant Specialist\, at bpeyton@useting.org or 615-872-7900.
X-ALT-DESC;FMTTYPE=text/html:<!DOCTYPE html><html><head><title></title></head><body aria-disabled="false"><p style="box-sizing: border-box\; margin-top: 0px\; margin-bottom: 1rem\; font-weight: 300\; line-height: 1.45\; font-size: 1.167rem\; color: rgb(33\, 37\, 41)\; font-family: Lato\, sans-serif\; font-style: normal\; font-variant-ligatures: normal\; font-variant-caps: normal\; letter-spacing: normal\; orphans: 2\; text-align: left\; text-indent: 0px\; text-transform: none\; widows: 2\; word-spacing: 0px\; -webkit-text-stroke-width: 0px\; white-space: normal\; background-color: rgb(255\, 255\, 255)\; text-decoration-thickness: initial\; text-decoration-style: initial\; text-decoration-color: initial\;">The Tribal Lead Reduction Webinar Series is a two-part virtual training and technical assistance initiative designed to support Tribal Nations in addressing and eliminating the risks of lead exposure in Tribal children and eliminating lead in drinking water.</p><p style="box-sizing: border-box\; margin-top: 0px\; margin-bottom: 1rem\; font-weight: 300\; line-height: 1.45\; font-size: 1.167rem\; color: rgb(33\, 37\, 41)\; font-family: Lato\, sans-serif\; font-style: normal\; font-variant-ligatures: normal\; font-variant-caps: normal\; letter-spacing: normal\; orphans: 2\; text-align: left\; text-indent: 0px\; text-transform: none\; widows: 2\; word-spacing: 0px\; -webkit-text-stroke-width: 0px\; white-space: normal\; background-color: rgb(255\, 255\, 255)\; text-decoration-thickness: initial\; text-decoration-style: initial\; text-decoration-color: initial\;">The series aligns with EPA&rsquo\;s 3Ts framework (Training\, Testing\, and Taking Action) and provides a structured pathway from awareness to implementation through webinars and follow-up working office hours.</p><p style="box-sizing: border-box\; margin-top: 0px\; margin-bottom: 1rem\; font-weight: 300\; line-height: 1.45\; font-size: 1.167rem\; color: rgb(33\, 37\, 41)\; font-family: Lato\, sans-serif\; font-style: normal\; font-variant-ligatures: normal\; font-variant-caps: normal\; letter-spacing: normal\; orphans: 2\; text-align: left\; text-indent: 0px\; text-transform: none\; widows: 2\; word-spacing: 0px\; -webkit-text-stroke-width: 0px\; white-space: normal\; background-color: rgb(255\, 255\, 255)\; text-decoration-thickness: initial\; text-decoration-style: initial\; text-decoration-color: initial\;"><strong fr-original-style="box-sizing: border-box\; font-weight: 600\;" style="box-sizing: border-box\; font-weight: 600\;">Webinars</strong></p><ul fr-original-style="box-sizing: border-box\; margin-top: 0px\; margin-bottom: 1rem\; padding-left: 1.5rem\; color: rgb(33\, 37\, 41)\; font-family: Lato\, sans-serif\; font-size: 12.7488px\; font-style: normal\; font-variant-ligatures: normal\; font-variant-caps: normal\; font-weight: 400\; letter-spacing: normal\; orphans: 2\; text-align: left\; text-indent: 0px\; text-transform: none\; widows: 2\; word-spacing: 0px\; -webkit-text-stroke-width: 0px\; white-space: normal\; background-color: rgb(255\, 255\, 255)\; text-decoration-thickness: initial\; text-decoration-style: initial\; text-decoration-color: initial\;" style="box-sizing: border-box\; margin-top: 0px\; margin-bottom: 1rem\; padding-left: 1.5rem\; color: rgb(33\, 37\, 41)\; font-family: Lato\, sans-serif\; font-size: 12.7488px\; font-style: normal\; font-variant-ligatures: normal\; font-variant-caps: normal\; font-weight: 400\; letter-spacing: normal\; orphans: 2\; text-align: left\; text-indent: 0px\; text-transform: none\; widows: 2\; word-spacing: 0px\; -webkit-text-stroke-width: 0px\; white-space: normal\; background-color: rgb(255\, 255\, 255)\; text-decoration-thickness: initial\; text-decoration-style: initial\; text-decoration-color: initial\; list-style-position: inside\;"><li style="box-sizing: border-box\; font-weight: 300\; line-height: 1.45\; font-size: 1.167rem\;"><strong fr-original-style="box-sizing: border-box\; font-weight: 600\;" style="box-sizing: border-box\; font-weight: 600\;">Lead Exposure Risks &amp\; Community Response</strong><br style="box-sizing: border-box\;">Tuesday\, April 28 at 10:00 am &ndash\; 11:00 am Central/11:00 am &ndash\; 12:00 pm Eastern<br style="box-sizing: border-box\;">Focus on understanding risks of lead exposure in children and drinking water\, community engagement\, and communicating results.</li><li style="box-sizing: border-box\; font-weight: 300\; line-height: 1.45\; font-size: 1.167rem\;"><strong fr-original-style="box-sizing: border-box\; font-weight: 600\;" style="box-sizing: border-box\; font-weight: 600\;">From Results to Action: Lead Remediation Planning</strong><br style="box-sizing: border-box\;">Thursday\, April 30 at 10:00 am &ndash\; 11:00 am Central/11:00 am &ndash\; 12:00 pm Eastern<br style="box-sizing: border-box\;">Focus on interpreting sampling results and developing actionable remediation plans.</li></ul><p style="box-sizing: border-box\; margin-top: 0px\; margin-bottom: 1rem\; font-weight: 300\; line-height: 1.45\; font-size: 1.167rem\; color: rgb(33\, 37\, 41)\; font-family: Lato\, sans-serif\; font-style: normal\; font-variant-ligatures: normal\; font-variant-caps: normal\; letter-spacing: normal\; orphans: 2\; text-align: left\; text-indent: 0px\; text-transform: none\; widows: 2\; word-spacing: 0px\; -webkit-text-stroke-width: 0px\; white-space: normal\; background-color: rgb(255\, 255\, 255)\; text-decoration-thickness: initial\; text-decoration-style: initial\; text-decoration-color: initial\;"><strong fr-original-style="box-sizing: border-box\; font-weight: 600\;" style="box-sizing: border-box\; font-weight: 600\;">Office Hours</strong></p><p style="box-sizing: border-box\; margin-top: 0px\; margin-bottom: 1rem\; font-weight: 300\; line-height: 1.45\; font-size: 1.167rem\; color: rgb(33\, 37\, 41)\; font-family: Lato\, sans-serif\; font-style: normal\; font-variant-ligatures: normal\; font-variant-caps: normal\; letter-spacing: normal\; orphans: 2\; text-align: left\; text-indent: 0px\; text-transform: none\; widows: 2\; word-spacing: 0px\; -webkit-text-stroke-width: 0px\; white-space: normal\; background-color: rgb(255\, 255\, 255)\; text-decoration-thickness: initial\; text-decoration-style: initial\; text-decoration-color: initial\;">Structured as working sessions (not passive Q&amp\;A)\, offering two tracks:<br style="box-sizing: border-box\;">Track A &mdash\; Community Engagement &amp\; Program Development<ins style="box-sizing: border-box\;"><br style="box-sizing: border-box\;"></ins>Track B &mdash\; Remediation Planning &amp\; Implementation Support</p><ul fr-original-style="box-sizing: border-box\; margin-top: 0px\; margin-bottom: 1rem\; padding-left: 1.5rem\; color: rgb(33\, 37\, 41)\; font-family: Lato\, sans-serif\; font-size: 12.7488px\; font-style: normal\; font-variant-ligatures: normal\; font-variant-caps: normal\; font-weight: 400\; letter-spacing: normal\; orphans: 2\; text-align: left\; text-indent: 0px\; text-transform: none\; widows: 2\; word-spacing: 0px\; -webkit-text-stroke-width: 0px\; white-space: normal\; background-color: rgb(255\, 255\, 255)\; text-decoration-thickness: initial\; text-decoration-style: initial\; text-decoration-color: initial\;" style="box-sizing: border-box\; margin-top: 0px\; margin-bottom: 1rem\; padding-left: 1.5rem\; color: rgb(33\, 37\, 41)\; font-family: Lato\, sans-serif\; font-size: 12.7488px\; font-style: normal\; font-variant-ligatures: normal\; font-variant-caps: normal\; font-weight: 400\; letter-spacing: normal\; orphans: 2\; text-align: left\; text-indent: 0px\; text-transform: none\; widows: 2\; word-spacing: 0px\; -webkit-text-stroke-width: 0px\; white-space: normal\; background-color: rgb(255\, 255\, 255)\; text-decoration-thickness: initial\; text-decoration-style: initial\; text-decoration-color: initial\; list-style-position: inside\;"><li style="box-sizing: border-box\; font-weight: 300\; line-height: 1.45\; font-size: 1.167rem\;">Monday\, May 4 at 10:00 am &ndash\; 11:00 am Central/11:00 am &ndash\; 12:00 pm Eastern</li><li style="box-sizing: border-box\; font-weight: 300\; line-height: 1.45\; font-size: 1.167rem\;">Monday\, May 4 at 1:00 pm &ndash\; 2:00 pm Central/2:00 pm &ndash\; 3:00 pm Eastern</li><li style="box-sizing: border-box\; font-weight: 300\; line-height: 1.45\; font-size: 1.167rem\;">Tuesday\, May 5 at 10:00 am &ndash\; 11:00 am Central/11:00 am &ndash\; 12:00 pm Eastern</li><li style="box-sizing: border-box\; font-weight: 300\; line-height: 1.45\; font-size: 1.167rem\;">Tuesday\, May 5 at 1:00 pm &ndash\; 2:00 pm Central/2:00 pm &ndash\; 3:00 pm Eastern</li></ul><p style="box-sizing: border-box\; margin-top: 0px\; margin-bottom: 1rem\; font-weight: 300\; line-height: 1.45\; font-size: 1.167rem\; color: rgb(33\, 37\, 41)\; font-family: Lato\, sans-serif\; font-style: normal\; font-variant-ligatures: normal\; font-variant-caps: normal\; letter-spacing: normal\; orphans: 2\; text-align: left\; text-indent: 0px\; text-transform: none\; widows: 2\; word-spacing: 0px\; -webkit-text-stroke-width: 0px\; white-space: normal\; background-color: rgb(255\, 255\, 255)\; text-decoration-thickness: initial\; text-decoration-style: initial\; text-decoration-color: initial\;"><strong fr-original-style="box-sizing: border-box\; font-weight: 600\;" style="box-sizing: border-box\; font-weight: 600\;">Who should attend:</strong> Tribal environmental health staff\; Tribal water\, utility\, and maintenance staff\; Tribal public health professionals\; Tribal natural resource staff\; Tribal education staff\; Tribal program managers and leadership</p><p style="box-sizing: border-box\; margin-top: 0px\; margin-bottom: 1rem\; font-weight: 300\; line-height: 1.45\; font-size: 1.167rem\; color: rgb(33\, 37\, 41)\; font-family: Lato\, sans-serif\; font-style: normal\; font-variant-ligatures: normal\; font-variant-caps: normal\; letter-spacing: normal\; orphans: 2\; text-align: left\; text-indent: 0px\; text-transform: none\; widows: 2\; word-spacing: 0px\; -webkit-text-stroke-width: 0px\; white-space: normal\; background-color: rgb(255\, 255\, 255)\; text-decoration-thickness: initial\; text-decoration-style: initial\; text-decoration-color: initial\;"><strong fr-original-style="box-sizing: border-box\; font-weight: 600\;" style="box-sizing: border-box\; font-weight: 600\;">Learning objectives:</strong></p><ul fr-original-style="box-sizing: border-box\; margin-top: 0px\; margin-bottom: 1rem\; padding-left: 1.5rem\; color: rgb(33\, 37\, 41)\; font-family: Lato\, sans-serif\; font-size: 12.7488px\; font-style: normal\; font-variant-ligatures: normal\; font-variant-caps: normal\; font-weight: 400\; letter-spacing: normal\; orphans: 2\; text-align: left\; text-indent: 0px\; text-transform: none\; widows: 2\; word-spacing: 0px\; -webkit-text-stroke-width: 0px\; white-space: normal\; background-color: rgb(255\, 255\, 255)\; text-decoration-thickness: initial\; text-decoration-style: initial\; text-decoration-color: initial\;" style="box-sizing: border-box\; margin-top: 0px\; margin-bottom: 1rem\; padding-left: 1.5rem\; color: rgb(33\, 37\, 41)\; font-family: Lato\, sans-serif\; font-size: 12.7488px\; font-style: normal\; font-variant-ligatures: normal\; font-variant-caps: normal\; font-weight: 400\; letter-spacing: normal\; orphans: 2\; text-align: left\; text-indent: 0px\; text-transform: none\; widows: 2\; word-spacing: 0px\; -webkit-text-stroke-width: 0px\; white-space: normal\; background-color: rgb(255\, 255\, 255)\; text-decoration-thickness: initial\; text-decoration-style: initial\; text-decoration-color: initial\; list-style-position: inside\;"><li style="box-sizing: border-box\; font-weight: 300\; line-height: 1.45\; font-size: 1.167rem\;">Increase awareness of lead exposure risks in children</li><li style="box-sizing: border-box\; font-weight: 300\; line-height: 1.45\; font-size: 1.167rem\;">Strengthen Tribal staff capacity to interpret lead sampling results</li><li style="box-sizing: border-box\; font-weight: 300\; line-height: 1.45\; font-size: 1.167rem\;">Support development of community outreach and education strategies</li><li style="box-sizing: border-box\; font-weight: 300\; line-height: 1.45\; font-size: 1.167rem\;">Provide direct technical assistance for remediation planning and implementation</li><li style="box-sizing: border-box\; font-weight: 300\; line-height: 1.45\; font-size: 1.167rem\;">Advance Tribal-led lead reduction efforts aligned with EPA&rsquo\;s 3Ts framework</li></ul><p style="box-sizing: border-box\; margin-top: 0px\; margin-bottom: 1rem\; font-weight: 300\; line-height: 1.45\; font-size: 1.167rem\; color: rgb(33\, 37\, 41)\; font-family: Lato\, sans-serif\; font-style: normal\; font-variant-ligatures: normal\; font-variant-caps: normal\; letter-spacing: normal\; orphans: 2\; text-align: center\; text-indent: 0px\; text-transform: none\; widows: 2\; word-spacing: 0px\; -webkit-text-stroke-width: 0px\; white-space: normal\; background-color: rgb(255\, 255\, 255)\; text-decoration-thickness: initial\; text-decoration-style: initial\; text-decoration-color: initial\;"><a fr-original-style="box-sizing: border-box\; color: rgb(51\, 74\, 255)\; text-decoration: none\; background-color: transparent\;" href="https://app.smartsheet.com/b/form/a82ed1a4e06641d69c460ddbbe8e7f94" rel="noopener noreferrer" style="box-sizing: border-box\; color: rgb(51\, 74\, 255)\; text-decoration: none\; background-color: transparent\; user-select: auto\;" target="_blank"><span style="font-size: 24px\;"><strong fr-original-style="">Registration</strong></span></a><span style="font-size: 24px\;"><strong fr-original-style="">&nbsp\;is open!</strong></span></p><p style="box-sizing: border-box\; margin-top: 0px\; margin-bottom: 1rem\; font-weight: 300\; line-height: 1.45\; font-size: 1.167rem\; color: rgb(33\, 37\, 41)\; font-family: Lato\, sans-serif\; font-style: normal\; font-variant-ligatures: normal\; font-variant-caps: normal\; letter-spacing: normal\; orphans: 2\; text-align: left\; text-indent: 0px\; text-transform: none\; widows: 2\; word-spacing: 0px\; -webkit-text-stroke-width: 0px\; white-space: normal\; background-color: rgb(255\, 255\, 255)\; text-decoration-thickness: initial\; text-decoration-style: initial\; text-decoration-color: initial\;"><strong fr-original-style="box-sizing: border-box\; font-weight: 600\;" style="box-sizing: border-box\; font-weight: 600\;">Questions?</strong> Please contact Jakira Saunders\, OERM Lead Program Manager\, at&nbsp\;<a fr-original-style="box-sizing: border-box\; color: rgb(51\, 74\, 255)\; text-decoration: none\; background-color: transparent\;" href="mailto:jsaunders@usetinc.org" style="box-sizing: border-box\; color: rgb(51\, 74\, 255)\; text-decoration: none\; background-color: transparent\; user-select: auto\;">jsaunders@usetinc.org</a> or 804-501-8112\, or Ben Peyton\, OERM Sr. Technical Assistant Specialist\, at&nbsp\;<a fr-original-style="box-sizing: border-box\; color: rgb(51\, 74\, 255)\; text-decoration: none\; background-color: transparent\;" href="mailto:bpeyton@useting.org" style="box-sizing: border-box\; color: rgb(51\, 74\, 255)\; text-decoration: none\; background-color: transparent\; user-select: auto\;">bpeyton@useting.org</a> or 615-872-7900.</p></body></html>
LOCATION:
UID:e.2206.1447226
SEQUENCE:3
DTSTAMP:20260421T083851Z
URL:https://members.nathpo.org/eventcalendar/Details/tribal-lead-reduction-webinar-series-1714087?sourceTypeId=Hub
END:VEVENT
END:VCALENDAR
