BEGIN:VCALENDAR
VERSION:2.0
PRODID:-//ChamberMaster//Event Calendar 2.0//EN
METHOD:PUBLISH
X-PUBLISHED-TTL:P1H
REFRESH-INTERVAL:P1H
CALSCALE:GREGORIAN
BEGIN:VTIMEZONE
TZID:America/New_York
BEGIN:DAYLIGHT
RRULE:FREQ=YEARLY;BYMONTH=3;BYDAY=2SU
DTSTART:20070101T000000
TZOFFSETFROM:-0500
TZOFFSETTO:-0400
TZNAME:Eastern Daylight Time
END:DAYLIGHT
BEGIN:STANDARD
RRULE:FREQ=YEARLY;BYMONTH=11;BYDAY=1SU
DTSTART:20070101T000000
TZOFFSETFROM:-0400
TZOFFSETTO:-0500
TZNAME:Eastern Standard Time
END:STANDARD
END:VTIMEZONE
BEGIN:VEVENT
DTSTART;TZID=America/New_York:20260427T140000
DTEND;TZID=America/New_York:20260427T153000
X-MICROSOFT-CDO-ALLDAYEVENT:FALSE
SUMMARY:Investigative Genetic Genealogy for Indian Country
DESCRIPTION:April 27 @ 1:00 pm   2:30 pm CDTJoin us for an informative session providing a comprehensive basic overview of the Investigative Genetic Genealogy (IGG) process and its applications within Indian County Investigations. This presentation will explore the fundamental principles behind IGG\, including how IGG can be responsibly and effectively used to assist in solving cases. Attendees will gain insight into the practical benefits and procedural steps involved in integrating IGG techniques into investigative cases specific to Indian Country. Whether you are new to this field or looking to enhance your understanding\, this session will equip you with essential knowledge to leverage IGG as a valuable tool in your investigative efforts.This training is restricted to federal\, state\, and Tribal prosecutors\, law enforcement\, evidence technicians\, coroners\, and medical examiners. There is no charge to attend this webinar. CLE will not be provided.This training is a joint effort hosted by federal law enforcement agencies responding to violent crime in Indian Country. Sponsoring agencies include the U.S. Department of Justice's National Indian Country Training Initiative\, the United States Indian Police Academy\, the Federal Bureau of Investigation\, the Drug Enforcement Administration\, the Bureau of Alcohol\, Tobacco\, Firearms and Explosives\, and the Department of the Interior's Office of Law Enforcement and Security's Victim Assistance Program.Registration is open!\nIf you have any questions\, please contact Lamesha Bowman at Lamesha.Bowman@usdoj.gov\, Deborah Thomas at Deborah.Thomas@usdoj.gov or Leslie A. Hagen at Leslie.hagen3@usdoj.gov.
X-ALT-DESC;FMTTYPE=text/html:<!DOCTYPE html><html><head><title></title></head><body aria-disabled="false"><div style="box-sizing: border-box\; zoom: 1\; margin: 1.5rem 0px\; vertical-align: middle\; background: rgb(255\, 255\, 255)\; border: 0px\; padding: 0px\; color: rgb(33\, 37\, 41)\; font-family: Lato\, sans-serif\; font-size: 12.7488px\; font-style: normal\; font-variant-ligatures: normal\; font-variant-caps: normal\; font-weight: 400\; letter-spacing: normal\; orphans: 2\; text-align: left\; text-indent: 0px\; text-transform: none\; widows: 2\; word-spacing: 0px\; -webkit-text-stroke-width: 0px\; white-space: normal\; text-decoration-thickness: initial\; text-decoration-style: initial\; text-decoration-color: initial\;"><p style='box-sizing: border-box\; margin-top: 0px\; margin-bottom: 0px\; font-weight: 400\; line-height: 1.63\; font-size: 16px\; display: inline-block\; font-family: "Helvetica Neue"\, Helvetica\, -apple-system\, BlinkMacSystemFont\, Roboto\, Arial\, sans-serif\; font-style: normal\; color: rgb(20\, 24\, 39)\; letter-spacing: normal\;'><span style="box-sizing: border-box\; font-size: 21px\;">April 27&nbsp\;</span><span style="box-sizing: border-box\; color: rgb(185\, 190\, 194)\; font-size: 15px\; font-weight: 500\;">@&nbsp\;</span><span style="box-sizing: border-box\; font-size: 19px\;">1:00 pm&nbsp\;</span><span style="box-sizing: border-box\; color: rgb(185\, 190\, 194)\; font-size: 15px\; font-weight: 500\;">&ndash\;&nbsp\;</span><span style="box-sizing: border-box\; font-size: 19px\;">2:30 pm&nbsp\;</span><span style="box-sizing: border-box\; color: rgb(185\, 190\, 194)\; font-size: 15px\; font-weight: 500\;">CDT</span></p></div><p style="box-sizing: border-box\; margin-top: 0px\; margin-bottom: 1rem\; font-weight: 300\; line-height: 1.45\; font-size: 1.167rem\; color: rgb(33\, 37\, 41)\; font-family: Lato\, sans-serif\; font-style: normal\; font-variant-ligatures: normal\; font-variant-caps: normal\; letter-spacing: normal\; orphans: 2\; text-align: left\; text-indent: 0px\; text-transform: none\; widows: 2\; word-spacing: 0px\; -webkit-text-stroke-width: 0px\; white-space: normal\; background-color: rgb(255\, 255\, 255)\; text-decoration-thickness: initial\; text-decoration-style: initial\; text-decoration-color: initial\;">Join us for an informative session providing a comprehensive basic overview of the Investigative Genetic Genealogy (IGG) process and its applications within Indian County Investigations. This presentation will explore the fundamental principles behind IGG\, including how IGG can be responsibly and effectively used to assist in solving cases. Attendees will gain insight into the practical benefits and procedural steps involved in integrating IGG techniques into investigative cases specific to Indian Country. Whether you are new to this field or looking to enhance your understanding\, this session will equip you with essential knowledge to leverage IGG as a valuable tool in your investigative efforts.</p><p style="box-sizing: border-box\; margin-top: 0px\; margin-bottom: 1rem\; font-weight: 300\; line-height: 1.45\; font-size: 1.167rem\; color: rgb(33\, 37\, 41)\; font-family: Lato\, sans-serif\; font-style: normal\; font-variant-ligatures: normal\; font-variant-caps: normal\; letter-spacing: normal\; orphans: 2\; text-align: left\; text-indent: 0px\; text-transform: none\; widows: 2\; word-spacing: 0px\; -webkit-text-stroke-width: 0px\; white-space: normal\; background-color: rgb(255\, 255\, 255)\; text-decoration-thickness: initial\; text-decoration-style: initial\; text-decoration-color: initial\;"><strong fr-original-style="box-sizing: border-box\; font-weight: 600\;" style="box-sizing: border-box\; font-weight: 600\;">This training is restricted to federal\, state\, and Tribal prosecutors\, law enforcement\, evidence technicians\, coroners\, and medical examiners.</strong> There is no charge to attend this webinar. CLE will not be provided.</p><p style="box-sizing: border-box\; margin-top: 0px\; margin-bottom: 1rem\; font-weight: 300\; line-height: 1.45\; font-size: 1.167rem\; color: rgb(33\, 37\, 41)\; font-family: Lato\, sans-serif\; font-style: normal\; font-variant-ligatures: normal\; font-variant-caps: normal\; letter-spacing: normal\; orphans: 2\; text-align: left\; text-indent: 0px\; text-transform: none\; widows: 2\; word-spacing: 0px\; -webkit-text-stroke-width: 0px\; white-space: normal\; background-color: rgb(255\, 255\, 255)\; text-decoration-thickness: initial\; text-decoration-style: initial\; text-decoration-color: initial\;">This training is a joint effort hosted by federal law enforcement agencies responding to violent crime in Indian Country. Sponsoring agencies include the U.S. Department of Justice&rsquo\;s National Indian Country Training Initiative\, the United States Indian Police Academy\, the Federal Bureau of Investigation\, the Drug Enforcement Administration\, the Bureau of Alcohol\, Tobacco\, Firearms and Explosives\, and the Department of the Interior&rsquo\;s Office of Law Enforcement and Security&rsquo\;s Victim Assistance Program.</p><p style="box-sizing: border-box\; margin-top: 0px\; margin-bottom: 1rem\; font-weight: 300\; line-height: 1.45\; font-size: 1.167rem\; color: rgb(33\, 37\, 41)\; font-family: Lato\, sans-serif\; font-style: normal\; font-variant-ligatures: normal\; font-variant-caps: normal\; letter-spacing: normal\; orphans: 2\; text-align: center\; text-indent: 0px\; text-transform: none\; widows: 2\; word-spacing: 0px\; -webkit-text-stroke-width: 0px\; white-space: normal\; background-color: rgb(255\, 255\, 255)\; text-decoration-thickness: initial\; text-decoration-style: initial\; text-decoration-color: initial\;"><a fr-original-style="box-sizing: border-box\; color: rgb(51\, 74\, 255)\; text-decoration: none\; background-color: transparent\;" href="https://app.smartsheet.com/b/form/019ab657f9ac7901b4f5895197f27a68" rel="noopener noreferrer" style="box-sizing: border-box\; color: rgb(51\, 74\, 255)\; text-decoration: none\; background-color: transparent\; user-select: auto\;" target="_blank"><span style="font-size: 24px\;"><strong fr-original-style="">Registration</strong></span></a><span style="font-size: 24px\;"><strong fr-original-style=""><span style="color: rgb(33\, 37\, 41)\; font-family: Lato\, sans-serif\; font-style: normal\; font-variant-ligatures: normal\; font-variant-caps: normal\; font-weight: 300\; letter-spacing: normal\; orphans: 2\; text-align: left\; text-indent: 0px\; text-transform: none\; widows: 2\; word-spacing: 0px\; -webkit-text-stroke-width: 0px\; white-space: normal\; background-color: rgb(255\, 255\, 255)\; text-decoration-thickness: initial\; text-decoration-style: initial\; text-decoration-color: initial\; float: none\; display: inline !important\;">&nbsp\;</span></strong><span style="color: rgb(33\, 37\, 41)\; font-family: Lato\, sans-serif\; font-style: normal\; font-variant-ligatures: normal\; font-variant-caps: normal\; font-weight: 300\; letter-spacing: normal\; orphans: 2\; text-align: left\; text-indent: 0px\; text-transform: none\; widows: 2\; word-spacing: 0px\; -webkit-text-stroke-width: 0px\; white-space: normal\; background-color: rgb(255\, 255\, 255)\; text-decoration-thickness: initial\; text-decoration-style: initial\; text-decoration-color: initial\; float: none\; display: inline !important\;"><strong fr-original-style="">is open!</strong></span><strong fr-original-style=""><br></strong></span></p><p style="box-sizing: border-box\; margin-top: 0px\; margin-bottom: 1rem\; font-weight: 300\; line-height: 1.45\; font-size: 1.167rem\; color: rgb(33\, 37\, 41)\; font-family: Lato\, sans-serif\; font-style: normal\; font-variant-ligatures: normal\; font-variant-caps: normal\; letter-spacing: normal\; orphans: 2\; text-align: left\; text-indent: 0px\; text-transform: none\; widows: 2\; word-spacing: 0px\; -webkit-text-stroke-width: 0px\; white-space: normal\; background-color: rgb(255\, 255\, 255)\; text-decoration-thickness: initial\; text-decoration-style: initial\; text-decoration-color: initial\;">If you have any questions\, please contact Lamesha Bowman at <a fr-original-style="box-sizing: border-box\; color: rgb(51\, 74\, 255)\; text-decoration: none\; background-color: transparent\;" href="mailto:Lamesha.Bowman@usdoj.gov" style="box-sizing: border-box\; color: rgb(51\, 74\, 255)\; text-decoration: none\; background-color: transparent\; user-select: auto\;">Lamesha.Bowman@usdoj.gov</a>\, Deborah Thomas at <a fr-original-style="box-sizing: border-box\; color: rgb(51\, 74\, 255)\; text-decoration: none\; background-color: transparent\;" href="mailto:Deborah.Thomas@usdoj.gov" style="box-sizing: border-box\; color: rgb(51\, 74\, 255)\; text-decoration: none\; background-color: transparent\; user-select: auto\;">Deborah.Thomas@usdoj.gov</a> or Leslie A. Hagen at <a fr-original-style="box-sizing: border-box\; color: rgb(51\, 74\, 255)\; text-decoration: none\; background-color: transparent\;" href="mailto:Leslie.hagen3@usdoj.gov" style="box-sizing: border-box\; color: rgb(51\, 74\, 255)\; text-decoration: none\; background-color: transparent\; user-select: auto\;">Leslie.hagen3@usdoj.gov</a>.</p></body></html>
LOCATION:
UID:e.2206.1447079
SEQUENCE:3
DTSTAMP:20260421T082934Z
URL:https://members.nathpo.org/eventcalendar/Details/investigative-genetic-genealogy-for-indian-country-1713896?sourceTypeId=Hub
END:VEVENT
END:VCALENDAR
