BEGIN:VCALENDAR
VERSION:2.0
PRODID:-//ChamberMaster//Event Calendar 2.0//EN
METHOD:PUBLISH
X-PUBLISHED-TTL:P1H
REFRESH-INTERVAL:P1H
CALSCALE:GREGORIAN
BEGIN:VTIMEZONE
TZID:America/New_York
BEGIN:DAYLIGHT
RRULE:FREQ=YEARLY;BYMONTH=3;BYDAY=2SU
DTSTART:20070101T000000
TZOFFSETFROM:-0500
TZOFFSETTO:-0400
TZNAME:Eastern Daylight Time
END:DAYLIGHT
BEGIN:STANDARD
RRULE:FREQ=YEARLY;BYMONTH=11;BYDAY=1SU
DTSTART:20070101T000000
TZOFFSETFROM:-0400
TZOFFSETTO:-0500
TZNAME:Eastern Standard Time
END:STANDARD
END:VTIMEZONE
BEGIN:VEVENT
DTSTART;TZID=America/New_York:20260430T123000
DTEND;TZID=America/New_York:20260430T133000
X-MICROSOFT-CDO-ALLDAYEVENT:FALSE
SUMMARY:Emotional Well-Being through Healing of the Canoe
DESCRIPTION:Join us for an engaging session with the Saint Regis Mohawk Tribe as they explore how emotional healing can be supported through Healing of the Canoe   a culturally grounded life skills and substance abuse prevention curriculum for Native American youth. This session will provide a holistic perspective\, grounded in traditional teachings and programmatic best practices\, to help participants better understand\, implement\, and support Healing of the Canoe programs.When: April 30 at 11:30 am   12:30 pm Central/12:30 pm   1:30 pm EasternWho should attend: Public health officials\, counselors\, psychiatrists\, social workers\, clinicians\, youth outreach staff\, summer camp staff\, Tribal leaders\, and others with interest.Learning objectives: Participants will gain an understanding of:The use of cultural practices to restore balance and support recovery from Opioid Use Disorder.The principles and practices of Healing of the Canoe.Practical steps for offering Healing of the Canoe programs in Tribal Communities.Common barriers to providing this type of programming and strategies to overcome them.Registration is open!
X-ALT-DESC;FMTTYPE=text/html:<!DOCTYPE html><html><head><title></title></head><body aria-disabled="false"><p style="box-sizing: border-box\; margin-top: 0px\; margin-bottom: 1rem\; font-weight: 300\; line-height: 1.45\; font-size: 1.167rem\; color: rgb(33\, 37\, 41)\; font-family: Lato\, sans-serif\; font-style: normal\; font-variant-ligatures: normal\; font-variant-caps: normal\; letter-spacing: normal\; orphans: 2\; text-align: left\; text-indent: 0px\; text-transform: none\; widows: 2\; word-spacing: 0px\; -webkit-text-stroke-width: 0px\; white-space: normal\; background-color: rgb(255\, 255\, 255)\; text-decoration-thickness: initial\; text-decoration-style: initial\; text-decoration-color: initial\;">Join us for an engaging session with the Saint Regis Mohawk Tribe as they explore how emotional healing can be supported through Healing of the Canoe &ndash\; a culturally grounded life skills and substance abuse prevention curriculum for Native American youth. This session will provide a holistic perspective\, grounded in traditional teachings and programmatic best practices\, to help participants better understand\, implement\, and support Healing of the Canoe programs.</p><p style="box-sizing: border-box\; margin-top: 0px\; margin-bottom: 1rem\; font-weight: 300\; line-height: 1.45\; font-size: 1.167rem\; color: rgb(33\, 37\, 41)\; font-family: Lato\, sans-serif\; font-style: normal\; font-variant-ligatures: normal\; font-variant-caps: normal\; letter-spacing: normal\; orphans: 2\; text-align: left\; text-indent: 0px\; text-transform: none\; widows: 2\; word-spacing: 0px\; -webkit-text-stroke-width: 0px\; white-space: normal\; background-color: rgb(255\, 255\, 255)\; text-decoration-thickness: initial\; text-decoration-style: initial\; text-decoration-color: initial\;"><strong fr-original-style="box-sizing: border-box\; font-weight: 600\;" style="box-sizing: border-box\; font-weight: 600\;">When:</strong> April 30 at 11:30 am &ndash\; 12:30 pm Central/12:30 pm &ndash\; 1:30 pm Eastern</p><p style="box-sizing: border-box\; margin-top: 0px\; margin-bottom: 1rem\; font-weight: 300\; line-height: 1.45\; font-size: 1.167rem\; color: rgb(33\, 37\, 41)\; font-family: Lato\, sans-serif\; font-style: normal\; font-variant-ligatures: normal\; font-variant-caps: normal\; letter-spacing: normal\; orphans: 2\; text-align: left\; text-indent: 0px\; text-transform: none\; widows: 2\; word-spacing: 0px\; -webkit-text-stroke-width: 0px\; white-space: normal\; background-color: rgb(255\, 255\, 255)\; text-decoration-thickness: initial\; text-decoration-style: initial\; text-decoration-color: initial\;"><strong fr-original-style="box-sizing: border-box\; font-weight: 600\;" style="box-sizing: border-box\; font-weight: 600\;">Who should attend:</strong> Public health officials\, counselors\, psychiatrists\, social workers\, clinicians\, youth outreach staff\, summer camp staff\, Tribal leaders\, and others with interest.</p><p style="box-sizing: border-box\; margin-top: 0px\; margin-bottom: 1rem\; font-weight: 300\; line-height: 1.45\; font-size: 1.167rem\; color: rgb(33\, 37\, 41)\; font-family: Lato\, sans-serif\; font-style: normal\; font-variant-ligatures: normal\; font-variant-caps: normal\; letter-spacing: normal\; orphans: 2\; text-align: left\; text-indent: 0px\; text-transform: none\; widows: 2\; word-spacing: 0px\; -webkit-text-stroke-width: 0px\; white-space: normal\; background-color: rgb(255\, 255\, 255)\; text-decoration-thickness: initial\; text-decoration-style: initial\; text-decoration-color: initial\;"><strong fr-original-style="box-sizing: border-box\; font-weight: 600\;" style="box-sizing: border-box\; font-weight: 600\;">Learning objectives:</strong> Participants will gain an understanding of:</p><ul fr-original-style="box-sizing: border-box\; margin-top: 0px\; margin-bottom: 1rem\; padding-left: 1.5rem\; color: rgb(33\, 37\, 41)\; font-family: Lato\, sans-serif\; font-size: 12.7488px\; font-style: normal\; font-variant-ligatures: normal\; font-variant-caps: normal\; font-weight: 400\; letter-spacing: normal\; orphans: 2\; text-align: left\; text-indent: 0px\; text-transform: none\; widows: 2\; word-spacing: 0px\; -webkit-text-stroke-width: 0px\; white-space: normal\; background-color: rgb(255\, 255\, 255)\; text-decoration-thickness: initial\; text-decoration-style: initial\; text-decoration-color: initial\;" style="box-sizing: border-box\; margin-top: 0px\; margin-bottom: 1rem\; padding-left: 1.5rem\; color: rgb(33\, 37\, 41)\; font-family: Lato\, sans-serif\; font-size: 12.7488px\; font-style: normal\; font-variant-ligatures: normal\; font-variant-caps: normal\; font-weight: 400\; letter-spacing: normal\; orphans: 2\; text-align: left\; text-indent: 0px\; text-transform: none\; widows: 2\; word-spacing: 0px\; -webkit-text-stroke-width: 0px\; white-space: normal\; background-color: rgb(255\, 255\, 255)\; text-decoration-thickness: initial\; text-decoration-style: initial\; text-decoration-color: initial\; list-style-position: inside\;"><li style="box-sizing: border-box\; font-weight: 300\; line-height: 1.45\; font-size: 1.167rem\;">The use of cultural practices to restore balance and support recovery from Opioid Use Disorder.</li><li style="box-sizing: border-box\; font-weight: 300\; line-height: 1.45\; font-size: 1.167rem\;">The principles and practices of Healing of the Canoe.</li><li style="box-sizing: border-box\; font-weight: 300\; line-height: 1.45\; font-size: 1.167rem\;">Practical steps for offering Healing of the Canoe programs in Tribal Communities.</li><li style="box-sizing: border-box\; font-weight: 300\; line-height: 1.45\; font-size: 1.167rem\;">Common barriers to providing this type of programming and strategies to overcome them.</li></ul><p style="box-sizing: border-box\; margin-top: 0px\; margin-bottom: 1rem\; font-weight: 300\; line-height: 1.45\; font-size: 1.167rem\; color: rgb(33\, 37\, 41)\; font-family: Lato\, sans-serif\; font-style: normal\; font-variant-ligatures: normal\; font-variant-caps: normal\; letter-spacing: normal\; orphans: 2\; text-align: center\; text-indent: 0px\; text-transform: none\; widows: 2\; word-spacing: 0px\; -webkit-text-stroke-width: 0px\; white-space: normal\; background-color: rgb(255\, 255\, 255)\; text-decoration-thickness: initial\; text-decoration-style: initial\; text-decoration-color: initial\;"><a fr-original-style="box-sizing: border-box\; color: rgb(51\, 74\, 255)\; text-decoration: none\; background-color: transparent\;" href="https://usetinc-org.zoom.us/meeting/register/PBce-AJzTMyGr5xPJeM8iw" rel="noopener noreferrer" style="box-sizing: border-box\; color: rgb(51\, 74\, 255)\; text-decoration: none\; background-color: transparent\; user-select: auto\;" target="_blank"><span style="font-size: 24px\;"><strong fr-original-style="">Registration</strong></span></a><span style="font-size: 24px\;"><strong fr-original-style="">&nbsp\;is open!</strong></span></p></body></html>
LOCATION:
UID:e.2206.1447019
SEQUENCE:3
DTSTAMP:20260421T084556Z
URL:https://members.nathpo.org/eventcalendar/Details/emotional-well-being-through-healing-of-the-canoe-1713823?sourceTypeId=Hub
END:VEVENT
END:VCALENDAR
